Workbook

Sheet 受講申込書 
A3: 生産性向上支援訓練（オープンコース） 受講申込書
A5: ※お申込みの前に、下記の事項をご確認ください。
A6: □ | B6: 個人での受講はできません。企業（事業主）からの指示による申込に限ります。（公務員の方は受講できません）
A7: □ | B7: 実施機関（訓練実施を担当する企業）の関係会社（親会社、子会社、関連会社等）の方は受講できません。
A8: □ | B8: 事業取組団体、事業取組団体が再委託した実施機関、これらの関係会社（親会社、子会社、関連会社等）の方は受講できません。
A9: □ | B9: 受講申込は、本紙の必要事項をご記入の上、電子メールにてお送りください。
A10: □ | B10: 本申込書が当センターに到着後、申込担当者様に受講料支払い手続き等についてご連絡いたします（※振込手数料は、申込者負担とさせていただきます。）。
A11: □ | B11: 受講申込をキャンセルされる場合は、当センターに連絡の上、速やかに「受講取消届」を電子メールにてお送りください。 指定のキャンセル期限（開講日の原則２週間前）までに届出がない場合、受講料の全額をお支払いいただきますので、ご注意ください。
A13: □ | B13: 受講者を変更したい場合は、当センターに連絡の上、上記のキャンセル期限までに「受講者変更届」を電子メールにてお送りください。
A14: □ | B14: 最少催行人数を設定している訓練コースについては、申込者数が最少催行人数に達しない場合、訓練を中止又は延期とさせていただくことがありますので、あらかじめご了承ください。
A15: □ | B15: 訓練実施状況の確認等のため、センター職員が訓練中に写真撮影や録画を行う場合がありますので、あらかじめご了承ください。
A16: □ | B16: 電子メールの送り間違いには十分ご注意ください。
A18: 宛先：ポリテクセンター長野 メールアドレス：nagano-seisan@jeed.go.jp
A20: 独立行政法人高齢・障害・求職者雇用支援機構
A21: 長野支部長野職業能力開発促進センター所長 殿
P22: 令和 8 年 月 日
A24: 次の訓練について、訓練内容と受講要件を確認の上、受講を申込みます。
A25: 申 込 内 容
A27: ● 同時双方向通信による生産性向上支援訓練利用規約について
A28: ※オンラインコースを申込される場合は、同時双方向通信による生産性向上支援訓練利用規約に同意の上、□に✓をご記入ください。
B29: □ | C29: 同時双方向通信による生産性向上支援訓練利用規約に同意します。 | K29: ※必ず同時双方向通信による生産性向上支援訓練利用規約をお読みください。
B31: 法人（企業）名 | K31: 事業所名
B33: 法人番号 | K33: TEL | O33: FAX
B34: 所在地 | D34: 〒
B36: 企業規模 （該当に✔） | D36: □ | E36: A 1～29人 | I36: □ | J36: B 30～99人 | N36: □ | O36: C 100～299人
D37: □ | E37: D 300～499人 | I37: □ | J37: E 500～999人 | N37: □ | O37: F 1000人～
B38: 産業分類 | D38: (リスト選択) | F38: ⇐産業分類は、以下の２０種のうち該当するものを１つ選び、左欄のリスト選択から入力してください。 A 農業、林業 B 漁業 C 鉱業、採石業、砂利採取業 D 建設業 E 製造業 F 電気・ガス・熱供給・水道業 G 情報通信業 H 運輸業、郵便業 I 卸売業、小売業 J 金融業、保険業 K 不動産業、物品賃貸 L 学術研究、専門・技術サービス業 M 宿泊業、飲食サービス業 N 生活関連サービス業、娯楽業 O 教育、学習支援業 P 医療、福祉 Q 複合サービス事業 R サービス業 S 公務 T 分類不能の産業
B40: 申込担当者 | D40: 氏名 | J40: 部署 | N40: 役職
D41: TEL | J41: E-mail
B43: コース番号 （リスト選択） | D43: 訓練コース （自動） | G43: 開始日 （自動） | H43: 受講者氏名 | J43: ふりがな | L43: 性別 （任意） | M43: 生年月日 （西暦/月/日） | N43: 就業状況（※１） （該当に✔） | P43: オンライン受講状況（※２） （オンラインコースを申込される場合のみ、該当に✔）
A44: 例 | B44: 26-20-12-xxx-通番 | D44: 生産現場の問題解決 | G44: 7/31 | H44: 幕張 太郎 | J44: まくはり たろう | L44: 男 | M44: 36384 | N44: ☑ | O44: 正社員 | P44: □ | Q44: オンライン(自宅)
N45: □ | O45: 非正規雇用 | P45: □ | Q45: オンライン(自宅以外)
N46: □ | O46: その他（自営業等） | P46: □ | Q46: オフライン
A47: 1 | D47: =IFERROR(INDEX(コース番号!$C$1:$C$66,MATCH($B47,コース番号!$B$1:$B$66,0),1),"") | G47: =IFERROR(INDEX(コース番号!$D$1:$D$66,MATCH($B47,コース番号!$B$1:$B$66,0),1),"") | N47: □ | O47: 正社員 | P47: □ | Q47: オンライン(自宅)
N48: □ | O48: 非正規雇用 | P48: □ | Q48: オンライン(自宅以外)
N49: □ | O49: その他（自営業等） | P49: □ | Q49: オフライン
A50: 2 | D50: =IFERROR(INDEX(コース番号!$C$1:$C$66,MATCH($B50,コース番号!$B$1:$B$66,0),1),"") | G50: =IFERROR(INDEX(コース番号!$D$1:$D$66,MATCH($B50,コース番号!$B$1:$B$66,0),1),"") | N50: □ | O50: 正社員 | P50: □ | Q50: オンライン(自宅)
N51: □ | O51: 非正規雇用 | P51: □ | Q51: オンライン(自宅以外)
N52: □ | O52: その他（自営業等） | P52: □ | Q52: オフライン
A53: 3 | D53: =IFERROR(INDEX(コース番号!$C$1:$C$66,MATCH($B53,コース番号!$B$1:$B$66,0),1),"") | G53: =IFERROR(INDEX(コース番号!$D$1:$D$66,MATCH($B53,コース番号!$B$1:$B$66,0),1),"") | N53: □ | O53: 正社員 | P53: □ | Q53: オンライン(自宅)
N54: □ | O54: 非正規雇用 | P54: □ | Q54: オンライン(自宅以外)
N55: □ | O55: その他（自営業等） | P55: □ | Q55: オフライン
A56: 4 | D56: =IFERROR(INDEX(コース番号!$C$1:$C$66,MATCH($B56,コース番号!$B$1:$B$66,0),1),"") | G56: =IFERROR(INDEX(コース番号!$D$1:$D$66,MATCH($B56,コース番号!$B$1:$B$66,0),1),"") | N56: □ | O56: 正社員 | P56: □ | Q56: オンライン(自宅)
N57: □ | O57: 非正規雇用 | P57: □ | Q57: オンライン(自宅以外)
N58: □ | O58: その他（自営業等） | P58: □ | Q58: オフライン
A59: 5 | D59: =IFERROR(INDEX(コース番号!$C$1:$C$66,MATCH($B59,コース番号!$B$1:$B$66,0),1),"") | G59: =IFERROR(INDEX(コース番号!$D$1:$D$66,MATCH($B59,コース番号!$B$1:$B$66,0),1),"") | N59: □ | O59: 正社員 | P59: □ | Q59: オンライン(自宅)
N60: □ | O60: 非正規雇用 | P60: □ | Q60: オンライン(自宅以外)
N61: □ | O61: その他（自営業等） | P61: □ | Q61: オフライン
A62: 6 | D62: =IFERROR(INDEX(コース番号!$C$1:$C$66,MATCH($B62,コース番号!$B$1:$B$66,0),1),"") | G62: =IFERROR(INDEX(コース番号!$D$1:$D$66,MATCH($B62,コース番号!$B$1:$B$66,0),1),"") | N62: □ | O62: 正社員 | P62: □ | Q62: オンライン(自宅)
N63: □ | O63: 非正規雇用 | P63: □ | Q63: オンライン(自宅以外)
N64: □ | O64: その他（自営業等） | P64: □ | Q64: オフライン
A65: 7 | D65: =IFERROR(INDEX(コース番号!$C$1:$C$66,MATCH($B65,コース番号!$B$1:$B$66,0),1),"") | G65: =IFERROR(INDEX(コース番号!$D$1:$D$66,MATCH($B65,コース番号!$B$1:$B$66,0),1),"") | N65: □ | O65: 正社員 | P65: □ | Q65: オンライン(自宅)
N66: □ | O66: 非正規雇用 | P66: □ | Q66: オンライン(自宅以外)
N67: □ | O67: その他（自営業等） | P67: □ | Q67: オフライン
A68: 8 | D68: =IFERROR(INDEX(コース番号!$C$1:$C$66,MATCH($B68,コース番号!$B$1:$B$66,0),1),"") | G68: =IFERROR(INDEX(コース番号!$D$1:$D$66,MATCH($B68,コース番号!$B$1:$B$66,0),1),"") | N68: □ | O68: 正社員 | P68: □ | Q68: オンライン(自宅)
N69: □ | O69: 非正規雇用 | P69: □ | Q69: オンライン(自宅以外)
N70: □ | O70: その他（自営業等） | P70: □ | Q70: オフライン
A71: 9 | D71: =IFERROR(INDEX(コース番号!$C$1:$C$66,MATCH($B71,コース番号!$B$1:$B$66,0),1),"") | G71: =IFERROR(INDEX(コース番号!$D$1:$D$66,MATCH($B71,コース番号!$B$1:$B$66,0),1),"") | N71: □ | O71: 正社員 | P71: □ | Q71: オンライン(自宅)
N72: □ | O72: 非正規雇用 | P72: □ | Q72: オンライン(自宅以外)
N73: □ | O73: その他（自営業等） | P73: □ | Q73: オフライン
A74: 10 | D74: =IFERROR(INDEX(コース番号!$C$1:$C$66,MATCH($B74,コース番号!$B$1:$B$66,0),1),"") | G74: =IFERROR(INDEX(コース番号!$D$1:$D$66,MATCH($B74,コース番号!$B$1:$B$66,0),1),"") | N74: □ | O74: 正社員 | P74: □ | Q74: オンライン(自宅)
N75: □ | O75: 非正規雇用 | P75: □ | Q75: オンライン(自宅以外)
N76: □ | O76: その他（自営業等） | P76: □ | Q76: オフライン
B77: ※１ 受講者の方の就業状況を選択してください。なお、非正規雇用とは、パート、アルバイト、契約社員などが該当しますが、様々な呼称があるため、貴社の判断で差し支えありません。
A79: 当機構の保有個人情報保護方針、利用目的
A80: （１）独立行政法人高齢・障害・求職者雇用支援機構は「個人情報の保護に関する法律」（平成15年法律第57号）を遵守し、保有個人情報を適切に管理し、個人の権利利益を保護いたします。 （２）ご記入いただいた個人情報については、訓練の実施に関する事務処理（訓練実施機関への提供、本訓練に関する各種連絡、訓練終了後のアンケート送付等）及び業務統計に使用するものであり、それ以外に使用することはありません。

Sheet 受講申込書  (記入例)
A3: 生産性向上支援訓練（オープンコース） 受講申込書 （記入例）
A5: ※お申込みの前に、下記の事項をご確認ください。
A6: □ | B6: 個人での受講はできません。企業（事業主）からの指示による申込に限ります。（公務員の方は受講できません）
A7: □ | B7: 実施機関（訓練実施を担当する企業）の関係会社（親会社、子会社、関連会社等）の方は受講できません。
A8: □ | B8: 事業取組団体、事業取組団体が再委託した実施機関、これらの関係会社（親会社、子会社、関連会社等）の方は受講できません。
A9: □ | B9: 受講申込は、本紙の必要事項をご記入の上、電子メールにてお送りください。
A10: □ | B10: 本申込書が当センターに到着後、申込担当者様に受講料支払い手続き等についてご連絡いたします（※振込手数料は、申込者負担とさせていただきます。）。
A11: □ | B11: 受講申込をキャンセルされる場合は、当センターに連絡の上、速やかに「受講取消届」を電子メールにてお送りください。 指定のキャンセル期限（開講日の原則２週間前）までに届出がない場合、受講料の全額をお支払いいただきますので、ご注意ください。
A13: □ | B13: 受講者を変更したい場合は、当センターに連絡の上、速やかに「受講者変更届」を電子メールにてお送りください。
A14: □ | B14: 最少催行人数を設定している訓練コースについては、申込者数が最少催行人数に達しない場合、訓練を中止又は延期とさせていただくことがありますので、あらかじめご了承ください。
A15: □ | B15: 訓練実施状況の確認等のため、センター職員が訓練中に写真撮影や録画を行う場合がありますので、あらかじめご了承ください。
A16: □ | B16: 電子メールの送り間違いには十分ご注意ください。
A18: 宛先：○○○○ メールアドレス：*****@***.jp
A20: 独立行政法人高齢・障害・求職者雇用支援機構
A21: 長野支部長野職業能力開発促進センター所長 殿
P22: 令和 ○年 ○月 ○日
A24: 次の訓練について、訓練内容と受講要件を確認の上、受講を申込みます。
A25: 申 込 内 容
A27: ● 同時双方向通信による生産性向上支援訓練利用規約について
A28: ※オンラインコースを申込される場合は、同時双方向通信による生産性向上支援訓練利用規約に同意の上、□に✓をご記入ください。
B29: ☑ | C29: 同時双方向通信による生産性向上支援訓練利用規約に同意します。 | K29: ※必ず同時双方向通信による生産性向上支援訓練利用規約をお読みください。
B31: 法人（企業）名 | D31: 高障求支援株式会社 | K31: 事業所名 | M31: 向上支店
B33: 法人番号 | D33: 1234567890123 | K33: TEL | M33: ***-***-**** | O33: FAX | P33: ***-***-****
B34: 所在地 | D34: 〒 ***-****
D35: 千葉県千葉市○○区○○1-2-3
B36: 企業規模 （該当に✔） | D36: □ | E36: A 1～29人 | I36: ☑ | J36: B 30～99人 | N36: □ | O36: C 100～299人
D37: □ | E37: D 300～499人 | I37: □ | J37: E 500～999人 | N37: □ | O37: F 1000人～
B38: 産業分類 | D38: I 卸売業、小売業 | F38: ⇐産業分類は、以下の２０種のうち該当するものを１つ選んでください。 A 農業、林業 B 漁業 C 鉱業、採石業、砂利採取業 D 建設業 E 製造業 F 電気・ガス・熱供給・水道業 G 情報通信業 H 運輸業、郵便業 I 卸売業、小売業 J 金融業、保険業 K 不動産業、物品賃貸 L 学術研究、専門・技術サービス業 M 宿泊業、飲食サービス業 N 生活関連サービス業、娯楽業 O 教育、学習支援業 P 医療、福祉 Q 複合サービス事業 R サービス業 S 公務 T 分類不能の産業
B40: 申込担当者 | D40: 氏名 | F40: 高障 花子 | J40: 部署 | K40: 総務部総務課 | N40: 役職 | O40: 〇〇課長
D41: TEL | F41: ***-***-**** | J41: E-mail | K41: ****@***..jp
B43: コース番号 （リスト選択） | D43: 訓練コース （自動） | G43: 開始日 （自動） | H43: 受講者氏名 | J43: ふりがな | L43: 性別 （任意） | M43: 生年月日 （西暦/月/日） | N43: 就業状況（※１） （該当に✔） | P43: オンライン受講状況（※２） （オンラインコースを申込される場合のみ、該当に✔）
A44: 例 | B44: 26-20-12-xxx-通番 | D44: 生産現場の問題解決 | G44: 7/31 | H44: 幕張 太郎 | J44: まくはり たろう | L44: 男 | M44: 36384 | N44: ☑ | O44: 正社員 | P44: □ | Q44: オンライン(自宅)
N45: □ | O45: 非正規雇用 | P45: □ | Q45: オンライン(自宅以外)
N46: □ | O46: その他（自営業等） | P46: □ | Q46: オフライン
A47: 1 | B47: **-**-14-002-*** | D47: オンライン生産性向上支援訓練（生産現場の問題解決） | G47: */* | H47: 能開 一郎 | J47: のうかい いちろう | L47: 男 | M47: 29494 | N47: ☑ | O47: 正社員 | P47: □ | Q47: オンライン(自宅)
N48: □ | O48: 非正規雇用 | P48: □ | Q48: オンライン(自宅以外)
N49: □ | O49: その他（自営業等） | P49: □ | Q49: オフライン
A50: 2 | B50: **-**-14-002-*** | D50: オンライン生産性向上支援訓練（生産現場の問題解決） | G50: */* | H50: 雇用 次郎 | J50: こよう じろう | L50: 男 | M50: 36587 | N50: ☑ | O50: 正社員 | P50: □ | Q50: オンライン(自宅)
N51: □ | O51: 非正規雇用 | P51: □ | Q51: オンライン(自宅以外)
N52: □ | O52: その他（自営業等） | P52: □ | Q52: オフライン
A53: 3 | B53: **-**-14-022-*** | D53: オンライン生産性向上支援訓練（IoTを活用したビジネスモデル） | G53: */* | H53: 海浜 若葉 | J53: かいひん わかば | M53: 35023 | N53: ☑ | O53: 正社員 | P53: □ | Q53: オンライン(自宅)
N54: □ | O54: 非正規雇用 | P54: □ | Q54: オンライン(自宅以外)
N55: □ | O55: その他（自営業等） | P55: □ | Q55: オフライン
A56: 4 | N56: □ | O56: 正社員 | P56: □ | Q56: オンライン(自宅)
N57: □ | O57: 非正規雇用 | P57: □ | Q57: オンライン(自宅以外)
N58: □ | O58: その他（自営業等） | P58: □ | Q58: オフライン
A59: 5 | N59: □ | O59: 正社員 | P59: □ | Q59: オンライン(自宅)
N60: □ | O60: 非正規雇用 | P60: □ | Q60: オンライン(自宅以外)
N61: □ | O61: その他（自営業等） | P61: □ | Q61: オフライン
A62: 6 | N62: □ | O62: 正社員 | P62: □ | Q62: オンライン(自宅)
N63: □ | O63: 非正規雇用 | P63: □ | Q63: オンライン(自宅以外)
N64: □ | O64: その他（自営業等） | P64: □ | Q64: オフライン
A65: 7 | N65: □ | O65: 正社員 | P65: □ | Q65: オンライン(自宅)
N66: □ | O66: 非正規雇用 | P66: □ | Q66: オンライン(自宅以外)
N67: □ | O67: その他（自営業等） | P67: □ | Q67: オフライン
A68: 8 | N68: □ | O68: 正社員 | P68: □ | Q68: オンライン(自宅)
N69: □ | O69: 非正規雇用 | P69: □ | Q69: オンライン(自宅以外)
N70: □ | O70: その他（自営業等） | P70: □ | Q70: オフライン
A71: 9 | N71: □ | O71: 正社員 | P71: □ | Q71: オンライン(自宅)
N72: □ | O72: 非正規雇用 | P72: □ | Q72: オンライン(自宅以外)
N73: □ | O73: その他（自営業等） | P73: □ | Q73: オフライン
A74: 10 | N74: □ | O74: 正社員 | P74: □ | Q74: オンライン(自宅)
N75: □ | O75: 非正規雇用 | P75: □ | Q75: オンライン(自宅以外)
N76: □ | O76: その他（自営業等） | P76: □ | Q76: オフライン
B77: ※１ 受講者の方の就業状況を選択してください。なお、非正規雇用とは、パート、アルバイト、契約社員などが該当しますが、様々な呼称があるため、貴社の判断で差し支えありません。
A79: 当機構の保有個人情報保護方針、利用目的
A80: （１）独立行政法人高齢・障害・求職者雇用支援機構は「個人情報の保護に関する法律」（平成15年法律第57号）を遵守し、保有個人情報を適切に管理し、個人の権利利益を保護いたします。 （２）ご記入いただいた個人情報については、訓練の実施に関する事務処理（訓練実施機関への提供、本訓練に関する各種連絡、訓練終了後のアンケート送付等）及び業務統計に使用するものであり、それ以外に使用することはありません。

Sheet 受講台帳貼付補助シート
A1: 受講台帳貼付補助シート
A3: コース番号 | B3: 氏名 | C3: ふりがな | D3: 性別_コード値 | E3: 性別 | F3: 生年月日 | G3: 就業状況_コード値 | H3: 就業状況 | I3: オンライン受講状況_コード値 | J3: オンライン受講状況
A4: ※必須 半16 | B4: ※必須 全30 | C4: 全30 | D4: 編集不可 非表示 | E4: リスト | F4: YYYY/M/D | G4: 編集不可 非表示 | H4: リスト | I4: 編集不可 非表示 | J4: ※条件付必須
A5: ='受講申込書 '!$B$47 -> 0 | B5: ='受講申込書 '!$H$47 | C5: ='受講申込書 '!$J$47 | E5: =IF($A$5=0,"",IF(OR('受講申込書 '!$L$47="男",'受講申込書 '!$L$47="女"),'受講申込書 '!$L$47,"無回答")) | F5: ='受講申込書 '!$M$47 | H5: =IF('受講申込書 '!$N$47="☑","正社員",IF('受講申込書 '!$N$48="☑","非正規雇用",IF('受講申込書 '!$N$49="☑","その他（自営業等）",""))) | J5: =IF('受講申込書 '!$P$47="☑","オンライン（自宅）",IF('受講申込書 '!$P$48="☑","オンライン（自宅以外）",IF('受講申込書 '!$P$49="☑","オフライン","")))
A6: ='受講申込書 '!$B$50 -> 0 | B6: ='受講申込書 '!$H$50 | C6: ='受講申込書 '!$J$50 | E6: =IF($A$6=0,"",IF(OR('受講申込書 '!$L$50="男",'受講申込書 '!$L$50="女"),'受講申込書 '!$L$50,"無回答")) | F6: ='受講申込書 '!$M$50 | H6: =IF('受講申込書 '!$N$50="☑","正社員",IF('受講申込書 '!$N$51="☑","非正規雇用",IF('受講申込書 '!$N$52="☑","その他（自営業等）",""))) | J6: =IF('受講申込書 '!$P$50="☑","オンライン（自宅）",IF('受講申込書 '!$P$51="☑","オンライン（自宅以外）",IF('受講申込書 '!$P$52="☑","オフライン","")))
A7: ='受講申込書 '!$B$53 -> 0 | B7: ='受講申込書 '!$H$53 | C7: ='受講申込書 '!$J$53 | E7: =IF($A$7=0,"",IF(OR('受講申込書 '!$L$53="男",'受講申込書 '!$L$53="女"),'受講申込書 '!$L$53,"無回答")) | F7: ='受講申込書 '!$M$53 | H7: =IF('受講申込書 '!$N$53="☑","正社員",IF('受講申込書 '!$N$54="☑","非正規雇用",IF('受講申込書 '!$N$55="☑","その他（自営業等）",""))) | J7: =IF('受講申込書 '!$P$53="☑","オンライン（自宅）",IF('受講申込書 '!$P$54="☑","オンライン（自宅以外）",IF('受講申込書 '!$P$55="☑","オフライン","")))
A8: ='受講申込書 '!$B$56 -> 0 | B8: ='受講申込書 '!$H$56 | C8: ='受講申込書 '!$J$56 | E8: =IF($A$8=0,"",IF(OR('受講申込書 '!$L$56="男",'受講申込書 '!$L$56="女"),'受講申込書 '!$L$56,"無回答")) | F8: ='受講申込書 '!$M$56 | H8: =IF('受講申込書 '!$N$56="☑","正社員",IF('受講申込書 '!$N$57="☑","非正規雇用",IF('受講申込書 '!$N$58="☑","その他（自営業等）",""))) | J8: =IF('受講申込書 '!$P$56="☑","オンライン（自宅）",IF('受講申込書 '!$P$57="☑","オンライン（自宅以外）",IF('受講申込書 '!$P$58="☑","オフライン","")))
A9: ='受講申込書 '!$B$59 -> 0 | B9: ='受講申込書 '!$H$59 | C9: ='受講申込書 '!$J$59 | E9: =IF($A$9=0,"",IF(OR('受講申込書 '!$L$59="男",'受講申込書 '!$L$59="女"),'受講申込書 '!$L$59,"無回答")) | F9: ='受講申込書 '!$M$59 | H9: =IF('受講申込書 '!$N$59="☑","正社員",IF('受講申込書 '!$N$60="☑","非正規雇用",IF('受講申込書 '!$N$61="☑","その他（自営業等）",""))) | J9: =IF('受講申込書 '!$P$59="☑","オンライン（自宅）",IF('受講申込書 '!$P$60="☑","オンライン（自宅以外）",IF('受講申込書 '!$P$61="☑","オフライン","")))
A10: ='受講申込書 '!$B$62 -> 0 | B10: ='受講申込書 '!$H$62 | C10: ='受講申込書 '!$J$62 | E10: =IF($A$10=0,"",IF(OR('受講申込書 '!$L$62="男",'受講申込書 '!$L$62="女"),'受講申込書 '!$L$62,"無回答")) | F10: ='受講申込書 '!$M$62 | H10: =IF('受講申込書 '!$N$62="☑","正社員",IF('受講申込書 '!$N$63="☑","非正規雇用",IF('受講申込書 '!$N$64="☑","その他（自営業等）",""))) | J10: =IF('受講申込書 '!$P$62="☑","オンライン（自宅）",IF('受講申込書 '!$P$63="☑","オンライン（自宅以外）",IF('受講申込書 '!$P$64="☑","オフライン","")))
A11: ='受講申込書 '!$B$65 -> 0 | B11: ='受講申込書 '!$H$65 | C11: ='受講申込書 '!$J$65 | E11: =IF($A$11=0,"",IF(OR('受講申込書 '!$L$65="男",'受講申込書 '!$L$65="女"),'受講申込書 '!$L$65,"無回答")) | F11: ='受講申込書 '!$M$65 | H11: =IF('受講申込書 '!$N$65="☑","正社員",IF('受講申込書 '!$N$66="☑","非正規雇用",IF('受講申込書 '!$N$67="☑","その他（自営業等）",""))) | J11: =IF('受講申込書 '!$P$65="☑","オンライン（自宅）",IF('受講申込書 '!$P$66="☑","オンライン（自宅以外）",IF('受講申込書 '!$P$67="☑","オフライン","")))
A12: ='受講申込書 '!$B$68 -> 0 | B12: ='受講申込書 '!$H$68 | C12: ='受講申込書 '!$J$68 | E12: =IF($A$12=0,"",IF(OR('受講申込書 '!$L$68="男",'受講申込書 '!$L$68="女"),'受講申込書 '!$L$68,"無回答")) | F12: ='受講申込書 '!$M$68 | H12: =IF('受講申込書 '!$N$68="☑","正社員",IF('受講申込書 '!$N$69="☑","非正規雇用",IF('受講申込書 '!$N$70="☑","その他（自営業等）",""))) | J12: =IF('受講申込書 '!$P$68="☑","オンライン（自宅）",IF('受講申込書 '!$P$69="☑","オンライン（自宅以外）",IF('受講申込書 '!$P$70="☑","オフライン","")))
A13: ='受講申込書 '!$B$71 -> 0 | B13: ='受講申込書 '!$H$71 | C13: ='受講申込書 '!$J$71 | E13: =IF($A$13=0,"",IF(OR('受講申込書 '!$L$71="男",'受講申込書 '!$L$71="女"),'受講申込書 '!$L$71,"無回答")) | F13: ='受講申込書 '!$M$71 | H13: =IF('受講申込書 '!$N$71="☑","正社員",IF('受講申込書 '!$N$72="☑","非正規雇用",IF('受講申込書 '!$N$73="☑","その他（自営業等）",""))) | J13: =IF('受講申込書 '!$P$71="☑","オンライン（自宅）",IF('受講申込書 '!$P$72="☑","オンライン（自宅以外）",IF('受講申込書 '!$P$73="☑","オフライン","")))
A14: ='受講申込書 '!$B$74 -> 0 | B14: ='受講申込書 '!$H$74 | C14: ='受講申込書 '!$J$74 | E14: =IF($A$14=0,"",IF(OR('受講申込書 '!$L$74="男",'受講申込書 '!$L$74="女"),'受講申込書 '!$L$74,"無回答")) | F14: ='受講申込書 '!$M$74 | H14: =IF('受講申込書 '!$N$74="☑","正社員",IF('受講申込書 '!$N$75="☑","非正規雇用",IF('受講申込書 '!$N$76="☑","その他（自営業等）",""))) | J14: =IF('受講申込書 '!$P$74="☑","オンライン（自宅）",IF('受講申込書 '!$P$75="☑","オンライン（自宅以外）",IF('受講申込書 '!$P$76="☑","オフライン","")))

Sheet コース番号
A1: 26-20-12-xxx-通番 | B1: 26-20-12-xxx-通番 | C1: 訓練コース | D1: 開始日 | E1: 締切日
A2: =IF(E2>=TODAY(),B2,"---") -> --- | B2: 26-20-12-114-001 | C2: SNSを活用した情報発信 | D2: 46178 | E2: 46155
A3: =IF(E3>=TODAY(),B3,"---") -> --- | B3: 26-20-12-100-002 | C3: 表計算ソフトを活用した業務改善 | D3: 46192 | E3: 46169
A4: =IF(E4>=TODAY(),B4,"---") -> --- | B4: 26-20-12-004-003 | C4: 生産計画と工程管理 | D4: 46211 | E4: 46188
A5: =IF(E5>=TODAY(),B5,"---") -> --- | B5: 26-20-12-101-004 | C5: 業務に役立つ表計算ソフトの関数活用（初級） | D5: 46217 | E5: 46192
A6: =IF(E6>=TODAY(),B6,"---") -> --- | B6: 26-20-12-101-005 | C6: 業務に役立つ表計算ソフトの関数活用（中級） | D6: 46224 | E6: 46199
A7: =IF(E7>=TODAY(),B7,"---") -> --- | B7: 26-20-12-041-006 | C7: 業務効率向上のための時間管理 | D7: 46234 | E7: 46211
A8: =IF(E8>=TODAY(),B8,"---") -> --- | B8: 26-20-12-103-007 | C8: 効率よく分析するためのデータ集計 | D8: 46267 | E8: 46244
A9: =IF(E9>=TODAY(),B9,"---") -> --- | B9: 26-20-12-104-008 | C9: ピボットテーブルを活用したデータ分析 | D9: 46281 | E9: 46258
A10: =IF(E10>=TODAY(),B10,"---") -> 26-20-12-002-009 | B10: 26-20-12-002-009 | C10: 生産現場の問題解決 | D10: 46295 | E10: 46272
A11: =IF(E11>=TODAY(),B11,"---") -> 26-20-12-107-010 | B11: 26-20-12-107-010 | C11: 表計算ソフトのマクロによる定型業務の自動化 | D11: 46302 | E11: 46274
A12: =IF(E12>=TODAY(),B12,"---") -> 26-20-12-132-011 | B12: 26-20-12-132-011 | C12: 生成ＡＩの活用 | D12: 46318 | E12: 46295
A13: =IF(E13>=TODAY(),B13,"---") -> 26-20-12-067-012 | B13: 26-20-12-067-012 | C13: チーム力の強化と中堅・ベテラン従業員の役割 | D13: 46330 | E13: 46304
... A65: =IF(E65>=TODAY(),B65,"---") -> 26-20-12-101-064 | B65: 26-20-12-101-064 | C65: 業務に役立つ表計算ソフトの関数活用（中級） | D65: 46415 | E65: 46374
B66: --- | C66: ---
