Workbook

Sheet データ
A1: 氏名（必須） | B1: ふりがな（必須） | C1: 性別（必須） | D1: 生年月日（必須） | E1: 就業状況（必須） | F1: オンラインコースの場合のみ 受講場所を選択してください。 | G1: 性別_コード値 | H1: 就業状況_コード値 | I1: オンライン受講状況区分_コード値
G2: =IF(ISBLANK(データ!C2),"",VLOOKUP(データ!C2,性別区分[],2,FALSE)) | H2: =IF(ISBLANK(データ!E2),"",VLOOKUP(データ!E2,就業状況区分[],2,FALSE)) | I2: =IF(ISBLANK(データ!F2),"",VLOOKUP(データ!F2,オンライン受講状況区分[],2,FALSE))
G3: =IF(ISBLANK(データ!C3),"",VLOOKUP(データ!C3,性別区分[],2,FALSE)) | H3: =IF(ISBLANK(データ!E3),"",VLOOKUP(データ!E3,就業状況区分[],2,FALSE)) | I3: =IF(ISBLANK(データ!F3),"",VLOOKUP(データ!F3,オンライン受講状況区分[],2,FALSE))
G4: =IF(ISBLANK(データ!C4),"",VLOOKUP(データ!C4,性別区分[],2,FALSE)) | H4: =IF(ISBLANK(データ!E4),"",VLOOKUP(データ!E4,就業状況区分[],2,FALSE)) | I4: =IF(ISBLANK(データ!F4),"",VLOOKUP(データ!F4,オンライン受講状況区分[],2,FALSE))
G5: =IF(ISBLANK(データ!C5),"",VLOOKUP(データ!C5,性別区分[],2,FALSE)) | H5: =IF(ISBLANK(データ!E5),"",VLOOKUP(データ!E5,就業状況区分[],2,FALSE)) | I5: =IF(ISBLANK(データ!F5),"",VLOOKUP(データ!F5,オンライン受講状況区分[],2,FALSE))
G6: =IF(ISBLANK(データ!C6),"",VLOOKUP(データ!C6,性別区分[],2,FALSE)) | H6: =IF(ISBLANK(データ!E6),"",VLOOKUP(データ!E6,就業状況区分[],2,FALSE)) | I6: =IF(ISBLANK(データ!F6),"",VLOOKUP(データ!F6,オンライン受講状況区分[],2,FALSE))
G7: =IF(ISBLANK(データ!C7),"",VLOOKUP(データ!C7,性別区分[],2,FALSE)) | H7: =IF(ISBLANK(データ!E7),"",VLOOKUP(データ!E7,就業状況区分[],2,FALSE)) | I7: =IF(ISBLANK(データ!F7),"",VLOOKUP(データ!F7,オンライン受講状況区分[],2,FALSE))
G8: =IF(ISBLANK(データ!C8),"",VLOOKUP(データ!C8,性別区分[],2,FALSE)) | H8: =IF(ISBLANK(データ!E8),"",VLOOKUP(データ!E8,就業状況区分[],2,FALSE)) | I8: =IF(ISBLANK(データ!F8),"",VLOOKUP(データ!F8,オンライン受講状況区分[],2,FALSE))
G9: =IF(ISBLANK(データ!C9),"",VLOOKUP(データ!C9,性別区分[],2,FALSE)) | H9: =IF(ISBLANK(データ!E9),"",VLOOKUP(データ!E9,就業状況区分[],2,FALSE)) | I9: =IF(ISBLANK(データ!F9),"",VLOOKUP(データ!F9,オンライン受講状況区分[],2,FALSE))
G10: =IF(ISBLANK(データ!C10),"",VLOOKUP(データ!C10,性別区分[],2,FALSE)) | H10: =IF(ISBLANK(データ!E10),"",VLOOKUP(データ!E10,就業状況区分[],2,FALSE)) | I10: =IF(ISBLANK(データ!F10),"",VLOOKUP(データ!F10,オンライン受講状況区分[],2,FALSE))
G11: =IF(ISBLANK(データ!C11),"",VLOOKUP(データ!C11,性別区分[],2,FALSE)) | H11: =IF(ISBLANK(データ!E11),"",VLOOKUP(データ!E11,就業状況区分[],2,FALSE)) | I11: =IF(ISBLANK(データ!F11),"",VLOOKUP(データ!F11,オンライン受講状況区分[],2,FALSE))
G12: =IF(ISBLANK(データ!C12),"",VLOOKUP(データ!C12,性別区分[],2,FALSE)) | H12: =IF(ISBLANK(データ!E12),"",VLOOKUP(データ!E12,就業状況区分[],2,FALSE)) | I12: =IF(ISBLANK(データ!F12),"",VLOOKUP(データ!F12,オンライン受講状況区分[],2,FALSE))
G13: =IF(ISBLANK(データ!C13),"",VLOOKUP(データ!C13,性別区分[],2,FALSE)) | H13: =IF(ISBLANK(データ!E13),"",VLOOKUP(データ!E13,就業状況区分[],2,FALSE)) | I13: =IF(ISBLANK(データ!F13),"",VLOOKUP(データ!F13,オンライン受講状況区分[],2,FALSE))
... G101: =IF(ISBLANK(データ!C101),"",VLOOKUP(データ!C101,性別区分[],2,FALSE)) | H101: =IF(ISBLANK(データ!E101),"",VLOOKUP(データ!E101,就業状況区分[],2,FALSE)) | I101: =IF(ISBLANK(データ!F101),"",VLOOKUP(データ!F101,オンライン受講状況区分[],2,FALSE))

Sheet コード定義
A1: 性別区分(無回答含む) | B1: 性別区分(無回答含む)_コード値 | C1: 就業状況区分 | D1: 就業状況区分_コード値 | E1: オンライン受講状況区分 | F1: オンライン受講状況区分_コード値
A2: 男 | B2: 1 | C2: 正社員 | D2: 1 | E2: オンライン（自宅） | F2: 1
A3: 女 | B3: 2 | C3: 非正規雇用 | D3: 2 | E3: オンライン（自宅以外） | F3: 2
A4: 無回答 | B4: 3 | C4: その他（自営業等） | D4: 3 | E4: オフライン | F4: 3
C5: 無回答 | D5: 4

Sheet __validation__
A1: h1jeYDm7Dq,ZjN9NNlv-O1ryL6wh8U_Q
